BEGIN:VCALENDAR
VERSION:2.0
PRODID:-//Solace - ECPv4.4.5//NONSGML v1.0//EN
CALSCALE:GREGORIAN
METHOD:PUBLISH
X-WR-CALNAME:Solace
X-ORIGINAL-URL:https://solace.com
X-WR-CALDESC:Events for Solace
BEGIN:VEVENT
DTSTART;VALUE=DATE:20180626
DTEND;VALUE=DATE:20180628
DTSTAMP:20180626T223138
CREATED:20180528T203450Z
LAST-MODIFIED:20180528T203450Z
UID:32482-1529971200-1530230399@solace.com
SUMMARY:Ontario ICT Mission to CommunicAsia 2018
DESCRIPTION:Solace has a kiosk under Canadian Pavilion at The CommunicAsia 2018 to be held in Singapore. Solace will also conduct a business programme organized by the Canadian Trade Commissioner Service in Singapore and ASEAN. Inspired by the radical changes in the ICT industry\, the refreshed CommunicAsia is Asia’s most established and relevant event for industry professionals in the telecommunications sector.
URL:https://solace.com/event/ontario-ict-mission-communicasia-2018
LOCATION:Singapore
GEO:1.352083;103.819836
CATEGORIES:Industry Event
ATTACH;FMTTYPE=image/png:https://3yecy51kdipx3blyi37oute1-wpengine.netdna-ssl.com/wp-content/uploads/2018/05/on-ict-mission-communicasia-2018-feat-img-860w-325h.png
END:VEVENT
BEGIN:VEVENT
DTSTART;VALUE=DATE:20180627
DTEND;VALUE=DATE:20180628
DTSTAMP:20180626T223138
CREATED:20180614T192042Z
LAST-MODIFIED:20180614T192109Z
UID:32698-1530057600-1530230399@solace.com
SUMMARY:IoT Tech Expo Europe 2018
DESCRIPTION:\n\nSolace powers the most demanding Internet of Things applications with open-standard middleware that reliably moves massive amounts of information between connected "things' and applications in your cloud and datacenter. Solace efficiently distributes data between the devices\, gateways and datacenter applications that make up the Internet of Things.\n\n \tBuilt-in MQTT support enables lightweight event-driven communication between all kinds of connected devices\, vehicles\, sensors and control systems over all kinds of networks.\n \tIntelligent routing enables the efficient collection\, distribution and filtration of information as it flows over all kinds of networks through gateways in the field.\n \tMassive capacity\, enhanced security and support for technologies like Apache Flume\, Hadoop\, JMS\, MQ and REST let data flow from IoT environments to analytics engines\, big data repositories\, cloud services and enterprise applications.\n\nTrust the technology government agencies and enterprises around the world are using for connected vehicle\, smart city\, national security\, emergency response and real-time transportation optimization projects. Learn more at https://solace.com/iot\n\nBooth Number: 80\n\n
URL:https://solace.com/event/iot-tech-expo-europe-2018
LOCATION:Europaplein 2-22\, Amsterdam\, 1078 GZ\, Netherlands
CATEGORIES:Industry Event
ATTACH;FMTTYPE=image/png:https://3yecy51kdipx3blyi37oute1-wpengine.netdna-ssl.com/wp-content/uploads/2018/06/iot-tech-expo-europe-2018-feat-img-860w-325h.png
END:VEVENT
BEGIN:VEVENT
DTSTART;VALUE=DATE:20180628
DTEND;VALUE=DATE:20180628
DTSTAMP:20180626T223138
CREATED:20180528T202021Z
LAST-MODIFIED:20180528T202021Z
UID:32483-1530144000-1530230399@solace.com
SUMMARY:Canada Day 2018 Reception
DESCRIPTION:Solace is pleased to be the RED Maple sponsor of the Canada Day 2018 in Hong Kong. We are looking forward to meet and celebrate the Day with approximately 600 to 800 guests (including senior government officials\, business leaders\, and important civil society and community representatives) to attend our reception.
URL:https://solace.com/event/canada-day-2018-reception
LOCATION:Pacific Place\, Supreme Court Road\, Central\, Hong Kong\, Hong Kong
CATEGORIES:Industry Event
END:VEVENT
BEGIN:VEVENT
DTSTART;VALUE=DATE:20180710
DTEND;VALUE=DATE:20180711
DTSTAMP:20180626T223138
CREATED:20180612T192830Z
LAST-MODIFIED:20180612T200805Z
UID:32646-1531180800-1531353599@solace.com
SUMMARY:SpringOne Tour Los Angeles
DESCRIPTION:SpringOne Platform is the premier conference for those who build\, deploy\, and run cloud-native software. This unique two-day event brings together leading software companies\, enterprises\, and cloud experts to collaborate\, share knowledge\, and create transformational software.
URL:https://solace.com/event/springone-tour-los-angeles
LOCATION:777 South Figueroa Street\, Los Angeles\, CA\, United States
CATEGORIES:SpringOne Tour
ATTACH;FMTTYPE=image/png:https://3yecy51kdipx3blyi37oute1-wpengine.netdna-ssl.com/wp-content/uploads/2018/05/springone-tour-pivotal-feat-img-860w-325h.png
END:VEVENT
BEGIN:VEVENT
DTSTART;VALUE=DATE:20180723
DTEND;VALUE=DATE:20180724
DTSTAMP:20180626T223138
CREATED:20180308T150431Z
LAST-MODIFIED:20180308T150431Z
UID:30388-1532304000-1532476799@solace.com
SUMMARY:Gartner Application Architecture\, Development & Integration Summit 2018
DESCRIPTION:Solace is proud to be the Silver Sponsor of the Gartner AADI Summit 2018. The Summit is designed for enterprise architects\, applications\, IT executives and portfolio managers. Solace will showcase our technology and have case sharing with the audience.
URL:https://solace.com/event/gartner-application-architecture-development-integration-summit-2018
LOCATION:488 George Street\, Sydney\, Australia
GEO:-33.8717765;151.2075174
X-APPLE-STRUCTURED-LOCATION;VALUE=URI;X-ADDRESS=488 George Street Sydney Australia;X-APPLE-RADIUS=500;X-TITLE=488 George Street:geo:151.2075174,-33.8717765
CATEGORIES:Industry Event
ATTACH;FMTTYPE=image/jpeg:https://3yecy51kdipx3blyi37oute1-wpengine.netdna-ssl.com/wp-content/uploads/2018/03/gartner-app-arch-dev-integ-summit-2018-featured-img.jpg
END:VEVENT
BEGIN:VEVENT
DTSTART;VALUE=DATE:20180813
DTEND;VALUE=DATE:20180816
DTSTAMP:20180626T223138
CREATED:20180528T185335Z
LAST-MODIFIED:20180601T134145Z
UID:32492-1534118400-1534463999@solace.com
SUMMARY:F5 Agility
DESCRIPTION:Agility brings together a community of experts to ensure security\, infrastructure\, cloud and DevOps practitioners and architects have the latest\, must-have information to deliver the apps that make businesses succeed.\n\nParticipants partake in solution-specific programs and experiences designed to ignite creativity\, deliver practical know-how\, and build the kinds of connections that fuel personal and professional growth. The 2018 event will have even more breakout sessions\, more labs\, more networking\, more fun\, and more opportunities for increasing awareness\, building relationships\, and developing a pipeline for your organization with the industry’s top prospects.
URL:https://solace.com/event/f5-agility
LOCATION:415 Summer Street\, Boston\, MA\, 02210\, United States
CATEGORIES:Industry Event
ATTACH;FMTTYPE=image/png:https://3yecy51kdipx3blyi37oute1-wpengine.netdna-ssl.com/wp-content/uploads/2018/05/f5-agility-2018-feat-img-860w-325h.png
END:VEVENT
BEGIN:VEVENT
DTSTART;VALUE=DATE:20180828
DTEND;VALUE=DATE:20180829
DTSTAMP:20180626T223138
CREATED:20180612T194552Z
LAST-MODIFIED:20180612T200808Z
UID:32647-1535414400-1535587199@solace.com
SUMMARY:SpringOne Tour Chicago
DESCRIPTION:SpringOne Platform is the premier conference for those who build\, deploy\, and run cloud-native software. This unique two-day event brings together leading software companies\, enterprises\, and cloud experts to collaborate\, share knowledge\, and create transformational software.
URL:https://solace.com/event/springone-tour-chicago
LOCATION:205 N Michigan Ave\, 10th Floor\, Chicago\, IL\, 60601\, United States
CATEGORIES:SpringOne Tour
ATTACH;FMTTYPE=image/png:https://3yecy51kdipx3blyi37oute1-wpengine.netdna-ssl.com/wp-content/uploads/2018/05/springone-tour-pivotal-feat-img-860w-325h.png
END:VEVENT
BEGIN:VEVENT
DTSTART;VALUE=DATE:20181009
DTEND;VALUE=DATE:20181010
DTSTAMP:20180626T223138
CREATED:20180612T200315Z
LAST-MODIFIED:20180612T200755Z
UID:32648-1539043200-1539215999@solace.com
SUMMARY:SpringOne Tour San Francisco
DESCRIPTION:SpringOne Platform is the premier conference for those who build\, deploy\, and run cloud-native software. This unique two-day event brings together leading software companies\, enterprises\, and cloud experts to collaborate\, share knowledge\, and create transformational software.
URL:https://solace.com/event/springone-tour-san-francisco
LOCATION:44 Tehama St\, San Francisco\, CA\, 94105\, United States
CATEGORIES:SpringOne Tour
ATTACH;FMTTYPE=image/png:https://3yecy51kdipx3blyi37oute1-wpengine.netdna-ssl.com/wp-content/uploads/2018/05/springone-tour-pivotal-feat-img-860w-325h.png
END:VEVENT
BEGIN:VEVENT
DTSTART;VALUE=DATE:20181029
DTEND;VALUE=DATE:20181101
DTSTAMP:20180626T223138
CREATED:20180308T151225Z
LAST-MODIFIED:20180308T151225Z
UID:30390-1540771200-1541116799@solace.com
SUMMARY:Gartner Symposium/ITxpo
DESCRIPTION:Solace is the Silver Sponsor of the Gartner Symposium/ITxpo. The Symposium is designed for CIOs and senior IT executives to gain a strategic view of the emerging trends shaping IT and business. Solace will showcase our technology and have case sharing with the audience.
URL:https://solace.com/event/gartner-symposium-itxpo
CATEGORIES:Industry Event
ATTACH;FMTTYPE=image/jpeg:https://3yecy51kdipx3blyi37oute1-wpengine.netdna-ssl.com/wp-content/uploads/2018/03/gartner-symposium-itxpo-gc-2018-featured-img.jpg
END:VEVENT
END:VCALENDAR